BEGIN:VCALENDAR
VERSION:2.0
PRODID:-//eventon.com NONSGML v1.0//EN
BEGIN:VEVENT
UID:69e732d717d58
DTSTAMP:20260421T031831
DTSTART:20191213T230000Z
DTEND:20191215T230000Z
LOCATION:Therapy & Motion Carrera 8 # 127-22
SUMMARY:Taller Thetahealing ADN Básico en Bogotá - Diciembre  13\,  14 y 15 del 2019
DESCRIPTION: [tvideo type="youtube" clip_id="zjsqlT6fNJ8" width="907" height="510" autohide="2" autoplay="false" controls="false" loop="false" rel="false" showinfo="false" modestbranding="true" theme="light"] [one_half] Está demostrado que el poder de tus pensamientos y emociones afectan directamente tu cuerpo y salud Este Taller de Thetahealing ADN Básico\,  es un evento de tres días que traerá gran transformación y bienestar a tu[..]
END:VEVENT
END:VCALENDAR